BEGIN:VCALENDAR
VERSION:2.0
PRODID:-//IECC - ECPv6.15.20//NONSGML v1.0//EN
CALSCALE:GREGORIAN
METHOD:PUBLISH
X-WR-CALNAME:IECC
X-ORIGINAL-URL:https://inlandempirecommunitycollaborative.org
X-WR-CALDESC:Events for IECC
REFRESH-INTERVAL;VALUE=DURATION:PT1H
X-Robots-Tag:noindex
X-PUBLISHED-TTL:PT1H
BEGIN:VTIMEZONE
TZID:America/Los_Angeles
BEGIN:DAYLIGHT
TZOFFSETFROM:-0800
TZOFFSETTO:-0700
TZNAME:PDT
DTSTART:20240310T100000
END:DAYLIGHT
BEGIN:STANDARD
TZOFFSETFROM:-0700
TZOFFSETTO:-0800
TZNAME:PST
DTSTART:20241103T090000
END:STANDARD
BEGIN:DAYLIGHT
TZOFFSETFROM:-0800
TZOFFSETTO:-0700
TZNAME:PDT
DTSTART:20250309T100000
END:DAYLIGHT
BEGIN:STANDARD
TZOFFSETFROM:-0700
TZOFFSETTO:-0800
TZNAME:PST
DTSTART:20251102T090000
END:STANDARD
BEGIN:DAYLIGHT
TZOFFSETFROM:-0800
TZOFFSETTO:-0700
TZNAME:PDT
DTSTART:20260308T100000
END:DAYLIGHT
BEGIN:STANDARD
TZOFFSETFROM:-0700
TZOFFSETTO:-0800
TZNAME:PST
DTSTART:20261101T090000
END:STANDARD
BEGIN:DAYLIGHT
TZOFFSETFROM:-0800
TZOFFSETTO:-0700
TZNAME:PDT
DTSTART:20270314T100000
END:DAYLIGHT
BEGIN:STANDARD
TZOFFSETFROM:-0700
TZOFFSETTO:-0800
TZNAME:PST
DTSTART:20271107T090000
END:STANDARD
END:VTIMEZONE
BEGIN:VEVENT
DTSTART;TZID=America/Los_Angeles:20260422T090000
DTEND;TZID=America/Los_Angeles:20260422T130000
DTSTAMP:20260423T162112
CREATED:20260401T224323Z
LAST-MODIFIED:20260401T224323Z
UID:10000340-1776848400-1776862800@inlandempirecommunitycollaborative.org
SUMMARY:Community Mobile Health Services
DESCRIPTION:St. John’s Community Health\, in partnership with the Inland Coalition for Immigrant Justice\, continues to bring vital healthcare services directly to the community through its Mobile Health program in San Bernardino. Located at 2441 Sierra Way\, this ongoing initiative offers accessible\, no-appointment-needed services including primary care\, sports physicals\, vision and hearing screenings\, diabetes and blood pressure checks\, pap smears\, and lab testing. The program also provides same-day enrollment for Medi-Cal and Covered California\, helping connect individuals and families to long-term care. Walk-ins are welcome\, making this a convenient and reliable resource for underserved residents seeking quality\, affordable healthcare close to home.
URL:https://inlandempirecommunitycollaborative.org/event/community-mobile-health-services/2026-04-22/
LOCATION:2241 Sierra Way\, San Bernardino\, CA 92405
CATEGORIES:Children and Youth,Community Events,Health and Wellness
ATTACH;FMTTYPE=image/png:https://inlandempirecommunitycollaborative.org/wp-content/uploads/2026/04/SJCH-Community-Mobile-Health-Services-1-scaled.png
GEO:34.1363923;-117.2848999
END:VEVENT
BEGIN:VEVENT
DTSTART;TZID=America/Los_Angeles:20260413T090000
DTEND;TZID=America/Los_Angeles:20260413T160000
DTSTAMP:20260423T162112
CREATED:20260403T193514Z
LAST-MODIFIED:20260403T193514Z
UID:10000358-1776070800-1776096000@inlandempirecommunitycollaborative.org
SUMMARY:Treating Neurodivergent Clients in the Mental Health Setting
DESCRIPTION:This training centers equity and inclusion by supporting mental health providers in strengthening care for neurodivergent clients across clinical settings. Grounded in the social model of disability\, the session examines how systemic barriers and gaps in access impact neurodivergent individuals within the mental health system. Participants will engage in critical conversations around competency\, ethics\, and ableism; build skills to recognize neurodivergent traits in both diagnosed and undiagnosed clients; and develop practical\, adaptable strategies to support diverse therapeutic needs. The training also emphasizes trauma‑informed\, client‑centered approaches for responding to meltdowns and shutdowns\, while connecting participants to resources that support continued learning and more equitable mental health practices.\n\nRegister Here >>>
URL:https://inlandempirecommunitycollaborative.org/event/treating-neurodivergent-clients-in-the-mental-health-setting/
LOCATION:Ontario Airport Hotel  & Conference Center\, 700 N Haven Ave\, Ontario\, CA\, 91764\, United States
CATEGORIES:Advocacy,Children and Youth,Community Events,Diversity, Equity and Inclusion,Health and Wellness,Human Resources,Public Policy
ATTACH;FMTTYPE=image/png:https://inlandempirecommunitycollaborative.org/wp-content/uploads/2026/04/Autism-Society-scaled.png
ORGANIZER;CN="Autism Society Inland Empire":MAILTO:info@autism.org
GEO:34.0704856;-117.5745943
X-APPLE-STRUCTURED-LOCATION;VALUE=URI;X-ADDRESS=Ontario Airport Hotel  & Conference Center 700 N Haven Ave Ontario CA 91764 United States;X-APPLE-RADIUS=500;X-TITLE=700 N Haven Ave:geo:-117.5745943,34.0704856
END:VEVENT
BEGIN:VEVENT
DTSTART;VALUE=DATE:20260317
DTEND;VALUE=DATE:20260318
DTSTAMP:20260423T162112
CREATED:20260304T010112Z
LAST-MODIFIED:20260304T010112Z
UID:10000337-1773705600-1773791999@inlandempirecommunitycollaborative.org
SUMMARY:The Future of Medi-Cal Commission Semi-Monthly Meetings
DESCRIPTION:The Future of Medi-Cal Commission will gather semi-monthly over the course of 2026 to discuss ideas for modernizing Medi-Cal and ensuring this vital program can serve the next generation of Californians. \nCommission meetings will be held in person and will not be livestreamed. Report-outs of issues discussed will be provided in the following meeting. \nThe Commission’s monthly newsletter will also provide regular updates on issues commissioners are debating (subscribe here). \nREVIEW MEETING SCHEDULE HERE >>>
URL:https://inlandempirecommunitycollaborative.org/event/the-future-of-medi-cal-commission-semi-monthly-meetings/
LOCATION:CA
CATEGORIES:Children and Youth,Children's Cabinet,Diversity, Equity and Inclusion,Economic Development,Health and Wellness,Legal,Public Policy
ATTACH;FMTTYPE=image/png:https://inlandempirecommunitycollaborative.org/wp-content/uploads/2026/03/Event-Headers.png
ORGANIZER;CN="The Future of Medi-Cal Commission":MAILTO:info@futureofmedi-cal.org
END:VEVENT
BEGIN:VEVENT
DTSTART;VALUE=DATE:20260303
DTEND;VALUE=DATE:20260327
DTSTAMP:20260423T162112
CREATED:20260203T013840Z
LAST-MODIFIED:20260203T013840Z
UID:10000332-1772496000-1774569599@inlandempirecommunitycollaborative.org
SUMMARY:Navigating Medi-Cal 2026: Policy\, Practice and Partnerships
DESCRIPTION:As California prepares for changes to Medi-Cal in 2026 and beyond\, community-based organizations (CBOs) and public sector leaders play a critical role in ensuring that Medi-Cal members\, underinsured and uninsured\, maintain access to essential healthcare services. \nIn collaboration with Inland Empire Health Plan (IEHP)\, the IE Vibrant Health Forums: Navigating Medi-Cal 2026: Policy\, Practice\, and Partnerships will equip local leaders and partners with knowledge\, tools\, and connections to respond to these changes. \nAttendees will learn about Medi-Cal eligibility changes\, how to use BenefitsCal CBO accounts for enrollment\, best practices for redetermination outreach and resources from IEHP and county agencies. Attendees will leave empowered to advocate for and assist community members in navigating the evolving healthcare landscape. \nWho Should Attend:\nThese events are intended for nonprofit/CBO staff members that manage Medi-Cal enrollment efforts and support. We kindly request that no more than two individuals from each organization register for the event. \nRegister for an Event Near You\nEvents will be held throughout the Inland Empire to reach community leaders across the region. Click on the date below to register \n\nMarch 3\, 2026 from 9:30 – 11:30 am at IEHP Center for Learning & Innovation\, Rancho Cucamonga\nMarch 11\, 2026 from 12 – 2 pm at Hemet Library\, Hemet\nMarch 18\, 2026 from 1–3 pm at IEHP Community Wellness Center\, Victorville\nMarch 26\, 2026 from 1–3 pm at Eisenhower Health\, Rancho Mirage
URL:https://inlandempirecommunitycollaborative.org/event/navigating-medi-cal-2026-policy-practice-and-partnerships/
LOCATION:Inland Empire\, CA\, United States
CATEGORIES:Advocacy,Community Events,Diversity, Equity and Inclusion,Economic Development,Health and Wellness,Public Policy
ATTACH;FMTTYPE=image/png:https://inlandempirecommunitycollaborative.org/wp-content/uploads/2026/02/Navigating-Medi-Cal-2026-1.png
GEO:36.778261;-119.4179324
END:VEVENT
BEGIN:VEVENT
DTSTART;TZID=America/Los_Angeles:20260127T120000
DTEND;TZID=America/Los_Angeles:20260127T133000
DTSTAMP:20260423T162112
CREATED:20260127T195246Z
LAST-MODIFIED:20260127T195246Z
UID:10000327-1769515200-1769520600@inlandempirecommunitycollaborative.org
SUMMARY:Inland Empire Community Health Initiative’s Health Education Forum
DESCRIPTION:Join for an interactive health education forum designed to kick off the new year by centering heart health\, prevention\, and wellness across priority populations. This forum will explore how cardiovascular health is shaped by social\, environmental\, and structural factors and what individuals\, families\, and communities can do to reduce risk and improve outcomes. \n \nREGISTER HERE >>>
URL:https://inlandempirecommunitycollaborative.org/event/inland-empire-community-health-initiatives-health-education-forum/
LOCATION:Zoom\, CA\, United States
CATEGORIES:Children's Cabinet,Community Events,Diversity, Equity and Inclusion,Economic Development,Health and Wellness
ATTACH;FMTTYPE=image/png:https://inlandempirecommunitycollaborative.org/wp-content/uploads/2026/01/x-1.png
END:VEVENT
BEGIN:VEVENT
DTSTART;TZID=America/Los_Angeles:20260122T183000
DTEND;TZID=America/Los_Angeles:20260122T193000
DTSTAMP:20260423T162112
CREATED:20260106T222749Z
LAST-MODIFIED:20260107T181903Z
UID:10000326-1769106600-1769110200@inlandempirecommunitycollaborative.org
SUMMARY:Unlocking Potential: Inside the Future Pathways Employment Program
DESCRIPTION:The Autism Society Inland Empire and Daivergent are teaming up to spotlight the Future Pathways Employment Training Program\, a transformative initiative designed to open doors\, build confidence\, and support meaningful career development for autistic individuals and other neurodivergent job seekers who are Regional Center clients. \nIn this session\, you’ll discover: \n\nHow the Future Pathways program provides personalized employment training\nThe support and tools participants receive to thrive in the workplace\nWays families\, educators\, and service providers can get involved\nReal success stories and insights from the Daivergent team\n\nWhether you’re a job seeker\, parent\, professional\, or community partner\, this webinar offers valuable guidance on creating inclusive pathways to employment and independence. \nREGISTER HERE >>>
URL:https://inlandempirecommunitycollaborative.org/event/unlocking-potential-inside-the-future-pathways-employment-program/
LOCATION:Zoom\, CA\, United States
CATEGORIES:Children and Youth,Children's Cabinet,Community Events,Diversity, Equity and Inclusion,Health and Wellness
ATTACH;FMTTYPE=image/png:https://inlandempirecommunitycollaborative.org/wp-content/uploads/2026/01/x.png
END:VEVENT
BEGIN:VEVENT
DTSTART;TZID=America/Los_Angeles:20260113T130000
DTEND;TZID=America/Los_Angeles:20260113T140000
DTSTAMP:20260423T162112
CREATED:20260106T200722Z
LAST-MODIFIED:20260106T200850Z
UID:10000325-1768309200-1768312800@inlandempirecommunitycollaborative.org
SUMMARY:ECMHS Quarterly Meeting: NAS Care Resource Toolkit
DESCRIPTION:The Children’s Network Early Childhood Mental Health Systems (ECMHS) team invites you a Quarterly Meeting\, featuring a special presentation by Dr. Kiti Freier Randall\, Pediatric Neurodevelopmental Psychologist. \nDr. Kiti will introduce her NAS Care Resource Toolkit\, a comprehensive support guide designed to help providers better serve infants and families affected by Neonatal Abstinence Syndrome (NAS) and Neonatal Neurotoxic Effects (NNE). This presentation will equip San Bernardino County early childhood mental health professionals with practical tools and insights to strengthen care coordination\, family engagement\, and community response. \nNeonatal Abstinence Syndrome (NAS) and Neonatal Neurotoxic Effects (NNE) refer to withdrawal-like symptoms experienced by infants exposed to opioids or other substances in utero. These signs can impact early development and make caregiving challenging; however\, with supportive\, regulation-focused care\, we can ease infants’ discomfort now and help reduce long-term developmental and behavioral impacts. \nWho Should Attend \nAll professionals who work with families\, infants\, toddlers\, and young children (“littles”) are encouraged to attend this meeting and all ECMHS meetings and events. ECMHS gatherings support multidisciplinary partners across early childhood\, mental health\, healthcare\, education\, home visiting\, family resource centers\, and community-based programs. \nDOWNLOAD FLYER HERE >>> \nJOIN HERE ON ZOOM HERE >>>
URL:https://inlandempirecommunitycollaborative.org/event/ecmhs-quarterly-meeting-nas-care-resource-toolkit/
LOCATION:Zoom\, CA\, United States
CATEGORIES:Children and Youth,Children's Cabinet,Community Events,Diversity, Equity and Inclusion,Health and Wellness
ATTACH;FMTTYPE=image/png:https://inlandempirecommunitycollaborative.org/wp-content/uploads/2026/01/CMHS.png
END:VEVENT
BEGIN:VEVENT
DTSTART;TZID=America/Los_Angeles:20251113T100000
DTEND;TZID=America/Los_Angeles:20251120T110000
DTSTAMP:20260423T162112
CREATED:20251110T224358Z
LAST-MODIFIED:20251110T230737Z
UID:10000315-1763028000-1763636400@inlandempirecommunitycollaborative.org
SUMMARY:Community Impact & Health Workforce Apprenticeship
DESCRIPTION:If you are an employer\, supervisor\, or manager in a community\, social services\, or healthcare setting\, this is your opportunity to grow your impact. \nJoin our VIRTUAL OPEN HOUSE to learn how our FREE Apprenticeship Program develops emerging young professionals ages 18 – 24 with the skills\, confidence\, and real-world training to support your organization’s outreach\, client services\, and population health goals! \nBuild Your Team. Grow Your Impact. \n\nGain motivated\, trained apprentices\nStrengthen your workforce at no cost\nHelp shape future community health leaders\n\nJoin us on any of the following dates: \n\nThursday\, Nov 13 th\nTuesday 18 th\nThursday 20 th\n\nTIME: 10:00 AM \nWant to Learn More? Reach out to OdiliaGarcia@elsolnec.org \nView Flyer: Community Health Apprenticeship Open House \nREGISTER HERE >>>
URL:https://inlandempirecommunitycollaborative.org/event/community-impact-health-workforce-apprenticeship/
LOCATION:Zoom\, CA\, United States
CATEGORIES:Community Events,Diversity, Equity and Inclusion,Economic Development,Health and Wellness,Technical Assistance
ATTACH;FMTTYPE=image/png:https://inlandempirecommunitycollaborative.org/wp-content/uploads/2025/11/El-Sol.png
END:VEVENT
BEGIN:VEVENT
DTSTART;TZID=America/Los_Angeles:20250930T110000
DTEND;TZID=America/Los_Angeles:20250930T123000
DTSTAMP:20260423T162112
CREATED:20250829T180036Z
LAST-MODIFIED:20250829T180036Z
UID:10000307-1759230000-1759235400@inlandempirecommunitycollaborative.org
SUMMARY:2025 Prenatal-to-3 Research to Policy Summit
DESCRIPTION:Our annual Prenatal-to-3 Research to Policy Summit returns on Tuesday\, September 30\, 2025\, from 1:00-2:30 PM CT. We’ll be joined by state leaders\, advocates\, others who share interest in the Center’s innovations.\n\n\nWe’ll take 90 minutes to catch up on the latest findings—exploring which states made the most progress in expanding economic opportunities for families with young children. \n\n\n\nAt this event\, you will: \n\nHear an overview of the NEW 2025 State Policy Roadmap\nHear expert insights on state efforts to protect and implement evidence-based policies in 2025\nLearn more about the impact of recent federal policy changes on states\nLearn how state and federal policy choices interact and explore opportunities to advance policy in 2026\n\nREGISTER HERE >>>
URL:https://inlandempirecommunitycollaborative.org/event/2025-prenatal-to-3-research-to-policy-summit/
LOCATION:Zoom\, CA\, United States
CATEGORIES:Children and Youth,Children's Cabinet,Community Events,Diversity, Equity and Inclusion,Health and Wellness
ATTACH;FMTTYPE=image/png:https://inlandempirecommunitycollaborative.org/wp-content/uploads/2025/08/2025-Prenatal.png
END:VEVENT
BEGIN:VEVENT
DTSTART;TZID=America/Los_Angeles:20250904T120000
DTEND;TZID=America/Los_Angeles:20250904T130000
DTSTAMP:20260423T162112
CREATED:20250829T173400Z
LAST-MODIFIED:20250829T173400Z
UID:10000306-1756987200-1756990800@inlandempirecommunitycollaborative.org
SUMMARY:How Cal-MAP Equips Providers to Address  ﻿Youth Mental Health
DESCRIPTION:The California Child and Adolescent Mental Health Access Portal (Cal-MAP) is a no-cost consultation program that supports primary care and school-based providers in delivering timely\, high-quality mental health care to youth ages 0–25. Cal-MAP is part of the CalHOPE pediatric access initiative and is designed to expand access to behavioral health services\, particularly in California’s rural and underserved communities. \nThrough Cal-MAP\, providers who screen for Adverse Childhood Experiences (ACEs) and toxic stress can be connected with child and adolescent psychiatrists\, psychologists\, and social workers for real-time support. \nIn this webinar\, we will provide an overview of Cal-MAP’s services\, including consultation on screening\, diagnosis\, and treatment from child psychiatrists\, as well as resource and referral guidance from licensed social workers. \nThis activity is approved for AMA PRA Category 1 Credit™ and other continuing education credit. \nREGISTER HERE >>>
URL:https://inlandempirecommunitycollaborative.org/event/how-cal-map-equips-providers-to-address-youth-mental-health/
LOCATION:Zoom\, CA\, United States
CATEGORIES:Children and Youth,Children's Cabinet,Community Events,Diversity, Equity and Inclusion,Health and Wellness
ATTACH;FMTTYPE=image/png:https://inlandempirecommunitycollaborative.org/wp-content/uploads/2025/08/How-Cal-MAP-Equips.png
ORGANIZER;CN="Aces Aware":MAILTO:info@acesaware.org
END:VEVENT
BEGIN:VEVENT
DTSTART;VALUE=DATE:20250828
DTEND;VALUE=DATE:20250829
DTSTAMP:20260423T162112
CREATED:20250224T223511Z
LAST-MODIFIED:20250228T231753Z
UID:10000248-1756368000-1756400400@inlandempirecommunitycollaborative.org
SUMMARY:Wellness Together: Building Resilience in California’s Nonprofit Community
DESCRIPTION:Burnout. Fatigue. Isolation. Just simply tired. These words echo across so many conversations had with grantee partners as the Community Engagement and Strategic Partnerships Officer at Cal Wellness. \nThe work of advancing health and racial equity can be exhausting\, even more so in times like these as California copes with devastating wildfires and nonprofit leaders face the stress of a changing political environment. \nThat’s why The California Wellness Foundation is launching Wellness Together\, an event series supporting the well-being of anyone working to advance health and social justice in California\, whether you work at a nonprofit organization or do community-building work. \nWellness Together will offer four virtual sessions featuring wellness practitioners who will provide coaching\, tools and guided practices like meditation and breathwork. Additionally\, they will host in-person events in Los Angeles and Oakland specifically their grantee partners. \nThe sessions will be led by Our Own\, a Los Angeles-based nonprofit focused on dismantling barriers to racial injustice through mental and physical health\, nutrition\, education and entrepreneurship. \n\nSession 1: February 20\, 2025 – Non Profit Fatigue\, How To Avoid Burnout.\nSession 2: May 22\, 2025 – Empowering Your Team To Mental Acuity\nSession 3: July 31\, 2025 – Wellness Your Way\nSession 4: August 28\, 2025 – Movement & Healing Together\n\nLEARN MORE >>>
URL:https://inlandempirecommunitycollaborative.org/event/wellness-together-building-resilience-in-californias-nonprofit-community/2025-08-28/
LOCATION:Zoom\, CA\, United States
CATEGORIES:Community Events,Health and Wellness
ATTACH;FMTTYPE=image/png:https://inlandempirecommunitycollaborative.org/wp-content/uploads/2025/02/Wellness-Together.png
END:VEVENT
BEGIN:VEVENT
DTSTART;TZID=America/Los_Angeles:20250807T120000
DTEND;TZID=America/Los_Angeles:20250807T130000
DTSTAMP:20260423T162112
CREATED:20250808T185641Z
LAST-MODIFIED:20250808T185641Z
UID:10000302-1754568000-1754571600@inlandempirecommunitycollaborative.org
SUMMARY:The Role of Community Health Workers in Addressing ACEs and Toxic Stress
DESCRIPTION:Community Health Workers (CHW) can be trusted partners to individuals and communities given their lived experiences\, connections\, and knowledge. In this webinar\, we will discuss CalAIM’s CHW benefit\, including participant eligibility\, an overview of CHW services\, and how the CHW benefit can support individuals and families experiencing the impacts of Adverse Childhood Experiences (ACEs) and/or toxic stress. Designed as a preventive service\, the CHW benefit is available to support individuals with several risk factors and/or diagnoses\, including behavioral health\, chronic disease\, reproductive health\, exposure to community violence\, and unmet social needs. CHWs with aligned lived experience work with participants on a short-term basis to provide health education\, assist with system navigation\, and identify community resource connections. \nREGISTER HERE >>>
URL:https://inlandempirecommunitycollaborative.org/event/the-role-of-community-health-workers-in-addressing-aces-and-toxic-stress/
LOCATION:Zoom\, CA\, United States
CATEGORIES:Children's Cabinet,Community Events,Health and Wellness
ATTACH;FMTTYPE=image/png:https://inlandempirecommunitycollaborative.org/wp-content/uploads/2025/08/ACES.png
ORGANIZER;CN="Aces Aware":MAILTO:info@acesaware.org
END:VEVENT
BEGIN:VEVENT
DTSTART;VALUE=DATE:20250731
DTEND;VALUE=DATE:20250801
DTSTAMP:20260423T162112
CREATED:20250224T223511Z
LAST-MODIFIED:20250228T231753Z
UID:10000247-1753948800-1753981200@inlandempirecommunitycollaborative.org
SUMMARY:Wellness Together: Building Resilience in California’s Nonprofit Community
DESCRIPTION:Burnout. Fatigue. Isolation. Just simply tired. These words echo across so many conversations had with grantee partners as the Community Engagement and Strategic Partnerships Officer at Cal Wellness. \nThe work of advancing health and racial equity can be exhausting\, even more so in times like these as California copes with devastating wildfires and nonprofit leaders face the stress of a changing political environment. \nThat’s why The California Wellness Foundation is launching Wellness Together\, an event series supporting the well-being of anyone working to advance health and social justice in California\, whether you work at a nonprofit organization or do community-building work. \nWellness Together will offer four virtual sessions featuring wellness practitioners who will provide coaching\, tools and guided practices like meditation and breathwork. Additionally\, they will host in-person events in Los Angeles and Oakland specifically their grantee partners. \nThe sessions will be led by Our Own\, a Los Angeles-based nonprofit focused on dismantling barriers to racial injustice through mental and physical health\, nutrition\, education and entrepreneurship. \n\nSession 1: February 20\, 2025 – Non Profit Fatigue\, How To Avoid Burnout.\nSession 2: May 22\, 2025 – Empowering Your Team To Mental Acuity\nSession 3: July 31\, 2025 – Wellness Your Way\nSession 4: August 28\, 2025 – Movement & Healing Together\n\nLEARN MORE >>>
URL:https://inlandempirecommunitycollaborative.org/event/wellness-together-building-resilience-in-californias-nonprofit-community/2025-07-31/
LOCATION:Zoom\, CA\, United States
CATEGORIES:Community Events,Health and Wellness
ATTACH;FMTTYPE=image/png:https://inlandempirecommunitycollaborative.org/wp-content/uploads/2025/02/Wellness-Together.png
END:VEVENT
END:VCALENDAR