BEGIN:VCALENDAR
VERSION:2.0
PRODID:-//IECC - ECPv6.15.20//NONSGML v1.0//EN
CALSCALE:GREGORIAN
METHOD:PUBLISH
X-ORIGINAL-URL:https://inlandempirecommunitycollaborative.org
X-WR-CALDESC:Events for IECC
REFRESH-INTERVAL;VALUE=DURATION:PT1H
X-Robots-Tag:noindex
X-PUBLISHED-TTL:PT1H
BEGIN:VTIMEZONE
TZID:America/Los_Angeles
BEGIN:DAYLIGHT
TZOFFSETFROM:-0800
TZOFFSETTO:-0700
TZNAME:PDT
DTSTART:20250309T100000
END:DAYLIGHT
BEGIN:STANDARD
TZOFFSETFROM:-0700
TZOFFSETTO:-0800
TZNAME:PST
DTSTART:20251102T090000
END:STANDARD
BEGIN:DAYLIGHT
TZOFFSETFROM:-0800
TZOFFSETTO:-0700
TZNAME:PDT
DTSTART:20260308T100000
END:DAYLIGHT
BEGIN:STANDARD
TZOFFSETFROM:-0700
TZOFFSETTO:-0800
TZNAME:PST
DTSTART:20261101T090000
END:STANDARD
BEGIN:DAYLIGHT
TZOFFSETFROM:-0800
TZOFFSETTO:-0700
TZNAME:PDT
DTSTART:20270314T100000
END:DAYLIGHT
BEGIN:STANDARD
TZOFFSETFROM:-0700
TZOFFSETTO:-0800
TZNAME:PST
DTSTART:20271107T090000
END:STANDARD
BEGIN:DAYLIGHT
TZOFFSETFROM:-0800
TZOFFSETTO:-0700
TZNAME:PDT
DTSTART:20280312T100000
END:DAYLIGHT
BEGIN:STANDARD
TZOFFSETFROM:-0700
TZOFFSETTO:-0800
TZNAME:PST
DTSTART:20281105T090000
END:STANDARD
END:VTIMEZONE
BEGIN:VEVENT
DTSTART;TZID=America/Los_Angeles:20260429T120000
DTEND;TZID=America/Los_Angeles:20260429T130000
DTSTAMP:20260423T090316
CREATED:20260403T192456Z
LAST-MODIFIED:20260403T192456Z
UID:10000357-1777464000-1777467600@inlandempirecommunitycollaborative.org
SUMMARY:Removing Barriers to Care for Patients with Disabilities
DESCRIPTION:This Health Equity Openings session centers equity\, access\, and inclusion by examining the barriers that people with disabilities experience when seeking healthcare. The discussion lifts up how systemic\, structural\, and policy-driven challenges contribute to disparities in care\, while highlighting practical\, people-centered strategies to improve accessibility and health outcomes. Participants will gain a clearer understanding of intervention approaches and key legal frameworks that support accessible healthcare\, strengthening their capacity to advance health equity and inclusive practices within their organizations and communities.\n\nRegister here >>>
URL:https://inlandempirecommunitycollaborative.org/event/iehp-health-equity-sessions/
LOCATION:IEHP Aquamarine Room\, 9500 Cleveland Ave\, Rancho Cucamonga\, CA\, 91730\, United States
CATEGORIES:Advocacy,Children and Youth,Community Events,Diversity, Equity and Inclusion,Health and Wellness,Public Policy
ATTACH;FMTTYPE=image/png:https://inlandempirecommunitycollaborative.org/wp-content/uploads/2026/04/IEHP-Removing-Barriers-to-Care-for-Patients-with-Disabilities-scaled.png
GEO:34.0808849;-117.5683331
X-APPLE-STRUCTURED-LOCATION;VALUE=URI;X-ADDRESS=IEHP Aquamarine Room 9500 Cleveland Ave Rancho Cucamonga CA 91730 United States;X-APPLE-RADIUS=500;X-TITLE=9500 Cleveland Ave:geo:-117.5683331,34.0808849
END:VEVENT
BEGIN:VEVENT
DTSTART;TZID=America/Los_Angeles:20260527T090000
DTEND;TZID=America/Los_Angeles:20260527T130000
DTSTAMP:20260423T090316
CREATED:20260401T224323Z
LAST-MODIFIED:20260401T224323Z
UID:10000341-1779872400-1779886800@inlandempirecommunitycollaborative.org
SUMMARY:Community Mobile Health Services
DESCRIPTION:St. John’s Community Health\, in partnership with the Inland Coalition for Immigrant Justice\, continues to bring vital healthcare services directly to the community through its Mobile Health program in San Bernardino. Located at 2441 Sierra Way\, this ongoing initiative offers accessible\, no-appointment-needed services including primary care\, sports physicals\, vision and hearing screenings\, diabetes and blood pressure checks\, pap smears\, and lab testing. The program also provides same-day enrollment for Medi-Cal and Covered California\, helping connect individuals and families to long-term care. Walk-ins are welcome\, making this a convenient and reliable resource for underserved residents seeking quality\, affordable healthcare close to home.
URL:https://inlandempirecommunitycollaborative.org/event/community-mobile-health-services/2026-05-27/
LOCATION:2241 Sierra Way\, San Bernardino\, CA 92405
CATEGORIES:Children and Youth,Community Events,Health and Wellness
ATTACH;FMTTYPE=image/png:https://inlandempirecommunitycollaborative.org/wp-content/uploads/2026/04/SJCH-Community-Mobile-Health-Services-1-scaled.png
GEO:34.1363923;-117.2848999
END:VEVENT
BEGIN:VEVENT
DTSTART;TZID=America/Los_Angeles:20260624T090000
DTEND;TZID=America/Los_Angeles:20260624T130000
DTSTAMP:20260423T090316
CREATED:20260401T224323Z
LAST-MODIFIED:20260401T224323Z
UID:10000342-1782291600-1782306000@inlandempirecommunitycollaborative.org
SUMMARY:Community Mobile Health Services
DESCRIPTION:St. John’s Community Health\, in partnership with the Inland Coalition for Immigrant Justice\, continues to bring vital healthcare services directly to the community through its Mobile Health program in San Bernardino. Located at 2441 Sierra Way\, this ongoing initiative offers accessible\, no-appointment-needed services including primary care\, sports physicals\, vision and hearing screenings\, diabetes and blood pressure checks\, pap smears\, and lab testing. The program also provides same-day enrollment for Medi-Cal and Covered California\, helping connect individuals and families to long-term care. Walk-ins are welcome\, making this a convenient and reliable resource for underserved residents seeking quality\, affordable healthcare close to home.
URL:https://inlandempirecommunitycollaborative.org/event/community-mobile-health-services/2026-06-24/
LOCATION:2241 Sierra Way\, San Bernardino\, CA 92405
CATEGORIES:Children and Youth,Community Events,Health and Wellness
ATTACH;FMTTYPE=image/png:https://inlandempirecommunitycollaborative.org/wp-content/uploads/2026/04/SJCH-Community-Mobile-Health-Services-1-scaled.png
GEO:34.1363923;-117.2848999
END:VEVENT
BEGIN:VEVENT
DTSTART;TZID=America/Los_Angeles:20260722T090000
DTEND;TZID=America/Los_Angeles:20260722T130000
DTSTAMP:20260423T090316
CREATED:20260401T224323Z
LAST-MODIFIED:20260401T224323Z
UID:10000343-1784710800-1784725200@inlandempirecommunitycollaborative.org
SUMMARY:Community Mobile Health Services
DESCRIPTION:St. John’s Community Health\, in partnership with the Inland Coalition for Immigrant Justice\, continues to bring vital healthcare services directly to the community through its Mobile Health program in San Bernardino. Located at 2441 Sierra Way\, this ongoing initiative offers accessible\, no-appointment-needed services including primary care\, sports physicals\, vision and hearing screenings\, diabetes and blood pressure checks\, pap smears\, and lab testing. The program also provides same-day enrollment for Medi-Cal and Covered California\, helping connect individuals and families to long-term care. Walk-ins are welcome\, making this a convenient and reliable resource for underserved residents seeking quality\, affordable healthcare close to home.
URL:https://inlandempirecommunitycollaborative.org/event/community-mobile-health-services/2026-07-22/
LOCATION:2241 Sierra Way\, San Bernardino\, CA 92405
CATEGORIES:Children and Youth,Community Events,Health and Wellness
ATTACH;FMTTYPE=image/png:https://inlandempirecommunitycollaborative.org/wp-content/uploads/2026/04/SJCH-Community-Mobile-Health-Services-1-scaled.png
GEO:34.1363923;-117.2848999
END:VEVENT
BEGIN:VEVENT
DTSTART;TZID=America/Los_Angeles:20260826T090000
DTEND;TZID=America/Los_Angeles:20260826T130000
DTSTAMP:20260423T090316
CREATED:20260401T224323Z
LAST-MODIFIED:20260401T224323Z
UID:10000344-1787734800-1787749200@inlandempirecommunitycollaborative.org
SUMMARY:Community Mobile Health Services
DESCRIPTION:St. John’s Community Health\, in partnership with the Inland Coalition for Immigrant Justice\, continues to bring vital healthcare services directly to the community through its Mobile Health program in San Bernardino. Located at 2441 Sierra Way\, this ongoing initiative offers accessible\, no-appointment-needed services including primary care\, sports physicals\, vision and hearing screenings\, diabetes and blood pressure checks\, pap smears\, and lab testing. The program also provides same-day enrollment for Medi-Cal and Covered California\, helping connect individuals and families to long-term care. Walk-ins are welcome\, making this a convenient and reliable resource for underserved residents seeking quality\, affordable healthcare close to home.
URL:https://inlandempirecommunitycollaborative.org/event/community-mobile-health-services/2026-08-26/
LOCATION:2241 Sierra Way\, San Bernardino\, CA 92405
CATEGORIES:Children and Youth,Community Events,Health and Wellness
ATTACH;FMTTYPE=image/png:https://inlandempirecommunitycollaborative.org/wp-content/uploads/2026/04/SJCH-Community-Mobile-Health-Services-1-scaled.png
GEO:34.1363923;-117.2848999
END:VEVENT
BEGIN:VEVENT
DTSTART;TZID=America/Los_Angeles:20260923T090000
DTEND;TZID=America/Los_Angeles:20260923T130000
DTSTAMP:20260423T090316
CREATED:20260401T224323Z
LAST-MODIFIED:20260401T224323Z
UID:10000345-1790154000-1790168400@inlandempirecommunitycollaborative.org
SUMMARY:Community Mobile Health Services
DESCRIPTION:St. John’s Community Health\, in partnership with the Inland Coalition for Immigrant Justice\, continues to bring vital healthcare services directly to the community through its Mobile Health program in San Bernardino. Located at 2441 Sierra Way\, this ongoing initiative offers accessible\, no-appointment-needed services including primary care\, sports physicals\, vision and hearing screenings\, diabetes and blood pressure checks\, pap smears\, and lab testing. The program also provides same-day enrollment for Medi-Cal and Covered California\, helping connect individuals and families to long-term care. Walk-ins are welcome\, making this a convenient and reliable resource for underserved residents seeking quality\, affordable healthcare close to home.
URL:https://inlandempirecommunitycollaborative.org/event/community-mobile-health-services/2026-09-23/
LOCATION:2241 Sierra Way\, San Bernardino\, CA 92405
CATEGORIES:Children and Youth,Community Events,Health and Wellness
ATTACH;FMTTYPE=image/png:https://inlandempirecommunitycollaborative.org/wp-content/uploads/2026/04/SJCH-Community-Mobile-Health-Services-1-scaled.png
GEO:34.1363923;-117.2848999
END:VEVENT
BEGIN:VEVENT
DTSTART;TZID=America/Los_Angeles:20261028T090000
DTEND;TZID=America/Los_Angeles:20261028T130000
DTSTAMP:20260423T090316
CREATED:20260401T224323Z
LAST-MODIFIED:20260401T224323Z
UID:10000346-1793178000-1793192400@inlandempirecommunitycollaborative.org
SUMMARY:Community Mobile Health Services
DESCRIPTION:St. John’s Community Health\, in partnership with the Inland Coalition for Immigrant Justice\, continues to bring vital healthcare services directly to the community through its Mobile Health program in San Bernardino. Located at 2441 Sierra Way\, this ongoing initiative offers accessible\, no-appointment-needed services including primary care\, sports physicals\, vision and hearing screenings\, diabetes and blood pressure checks\, pap smears\, and lab testing. The program also provides same-day enrollment for Medi-Cal and Covered California\, helping connect individuals and families to long-term care. Walk-ins are welcome\, making this a convenient and reliable resource for underserved residents seeking quality\, affordable healthcare close to home.
URL:https://inlandempirecommunitycollaborative.org/event/community-mobile-health-services/2026-10-28/
LOCATION:2241 Sierra Way\, San Bernardino\, CA 92405
CATEGORIES:Children and Youth,Community Events,Health and Wellness
ATTACH;FMTTYPE=image/png:https://inlandempirecommunitycollaborative.org/wp-content/uploads/2026/04/SJCH-Community-Mobile-Health-Services-1-scaled.png
GEO:34.1363923;-117.2848999
END:VEVENT
BEGIN:VEVENT
DTSTART;TZID=America/Los_Angeles:20261125T090000
DTEND;TZID=America/Los_Angeles:20261125T130000
DTSTAMP:20260423T090316
CREATED:20260401T224323Z
LAST-MODIFIED:20260401T224323Z
UID:10000347-1795597200-1795611600@inlandempirecommunitycollaborative.org
SUMMARY:Community Mobile Health Services
DESCRIPTION:St. John’s Community Health\, in partnership with the Inland Coalition for Immigrant Justice\, continues to bring vital healthcare services directly to the community through its Mobile Health program in San Bernardino. Located at 2441 Sierra Way\, this ongoing initiative offers accessible\, no-appointment-needed services including primary care\, sports physicals\, vision and hearing screenings\, diabetes and blood pressure checks\, pap smears\, and lab testing. The program also provides same-day enrollment for Medi-Cal and Covered California\, helping connect individuals and families to long-term care. Walk-ins are welcome\, making this a convenient and reliable resource for underserved residents seeking quality\, affordable healthcare close to home.
URL:https://inlandempirecommunitycollaborative.org/event/community-mobile-health-services/2026-11-25/
LOCATION:2241 Sierra Way\, San Bernardino\, CA 92405
CATEGORIES:Children and Youth,Community Events,Health and Wellness
ATTACH;FMTTYPE=image/png:https://inlandempirecommunitycollaborative.org/wp-content/uploads/2026/04/SJCH-Community-Mobile-Health-Services-1-scaled.png
GEO:34.1363923;-117.2848999
END:VEVENT
BEGIN:VEVENT
DTSTART;TZID=America/Los_Angeles:20261223T090000
DTEND;TZID=America/Los_Angeles:20261223T130000
DTSTAMP:20260423T090316
CREATED:20260401T224323Z
LAST-MODIFIED:20260401T224323Z
UID:10000348-1798016400-1798030800@inlandempirecommunitycollaborative.org
SUMMARY:Community Mobile Health Services
DESCRIPTION:St. John’s Community Health\, in partnership with the Inland Coalition for Immigrant Justice\, continues to bring vital healthcare services directly to the community through its Mobile Health program in San Bernardino. Located at 2441 Sierra Way\, this ongoing initiative offers accessible\, no-appointment-needed services including primary care\, sports physicals\, vision and hearing screenings\, diabetes and blood pressure checks\, pap smears\, and lab testing. The program also provides same-day enrollment for Medi-Cal and Covered California\, helping connect individuals and families to long-term care. Walk-ins are welcome\, making this a convenient and reliable resource for underserved residents seeking quality\, affordable healthcare close to home.
URL:https://inlandempirecommunitycollaborative.org/event/community-mobile-health-services/2026-12-23/
LOCATION:2241 Sierra Way\, San Bernardino\, CA 92405
CATEGORIES:Children and Youth,Community Events,Health and Wellness
ATTACH;FMTTYPE=image/png:https://inlandempirecommunitycollaborative.org/wp-content/uploads/2026/04/SJCH-Community-Mobile-Health-Services-1-scaled.png
GEO:34.1363923;-117.2848999
END:VEVENT
BEGIN:VEVENT
DTSTART;TZID=America/Los_Angeles:20270127T090000
DTEND;TZID=America/Los_Angeles:20270127T130000
DTSTAMP:20260423T090316
CREATED:20260401T224323Z
LAST-MODIFIED:20260401T224323Z
UID:10000349-1801040400-1801054800@inlandempirecommunitycollaborative.org
SUMMARY:Community Mobile Health Services
DESCRIPTION:St. John’s Community Health\, in partnership with the Inland Coalition for Immigrant Justice\, continues to bring vital healthcare services directly to the community through its Mobile Health program in San Bernardino. Located at 2441 Sierra Way\, this ongoing initiative offers accessible\, no-appointment-needed services including primary care\, sports physicals\, vision and hearing screenings\, diabetes and blood pressure checks\, pap smears\, and lab testing. The program also provides same-day enrollment for Medi-Cal and Covered California\, helping connect individuals and families to long-term care. Walk-ins are welcome\, making this a convenient and reliable resource for underserved residents seeking quality\, affordable healthcare close to home.
URL:https://inlandempirecommunitycollaborative.org/event/community-mobile-health-services/2027-01-27/
LOCATION:2241 Sierra Way\, San Bernardino\, CA 92405
CATEGORIES:Children and Youth,Community Events,Health and Wellness
ATTACH;FMTTYPE=image/png:https://inlandempirecommunitycollaborative.org/wp-content/uploads/2026/04/SJCH-Community-Mobile-Health-Services-1-scaled.png
GEO:34.1363923;-117.2848999
END:VEVENT
BEGIN:VEVENT
DTSTART;TZID=America/Los_Angeles:20270224T090000
DTEND;TZID=America/Los_Angeles:20270224T130000
DTSTAMP:20260423T090316
CREATED:20260401T224323Z
LAST-MODIFIED:20260401T224323Z
UID:10000350-1803459600-1803474000@inlandempirecommunitycollaborative.org
SUMMARY:Community Mobile Health Services
DESCRIPTION:St. John’s Community Health\, in partnership with the Inland Coalition for Immigrant Justice\, continues to bring vital healthcare services directly to the community through its Mobile Health program in San Bernardino. Located at 2441 Sierra Way\, this ongoing initiative offers accessible\, no-appointment-needed services including primary care\, sports physicals\, vision and hearing screenings\, diabetes and blood pressure checks\, pap smears\, and lab testing. The program also provides same-day enrollment for Medi-Cal and Covered California\, helping connect individuals and families to long-term care. Walk-ins are welcome\, making this a convenient and reliable resource for underserved residents seeking quality\, affordable healthcare close to home.
URL:https://inlandempirecommunitycollaborative.org/event/community-mobile-health-services/2027-02-24/
LOCATION:2241 Sierra Way\, San Bernardino\, CA 92405
CATEGORIES:Children and Youth,Community Events,Health and Wellness
ATTACH;FMTTYPE=image/png:https://inlandempirecommunitycollaborative.org/wp-content/uploads/2026/04/SJCH-Community-Mobile-Health-Services-1-scaled.png
GEO:34.1363923;-117.2848999
END:VEVENT
BEGIN:VEVENT
DTSTART;TZID=America/Los_Angeles:20270324T090000
DTEND;TZID=America/Los_Angeles:20270324T130000
DTSTAMP:20260423T090316
CREATED:20260401T224323Z
LAST-MODIFIED:20260401T224323Z
UID:10000351-1805878800-1805893200@inlandempirecommunitycollaborative.org
SUMMARY:Community Mobile Health Services
DESCRIPTION:St. John’s Community Health\, in partnership with the Inland Coalition for Immigrant Justice\, continues to bring vital healthcare services directly to the community through its Mobile Health program in San Bernardino. Located at 2441 Sierra Way\, this ongoing initiative offers accessible\, no-appointment-needed services including primary care\, sports physicals\, vision and hearing screenings\, diabetes and blood pressure checks\, pap smears\, and lab testing. The program also provides same-day enrollment for Medi-Cal and Covered California\, helping connect individuals and families to long-term care. Walk-ins are welcome\, making this a convenient and reliable resource for underserved residents seeking quality\, affordable healthcare close to home.
URL:https://inlandempirecommunitycollaborative.org/event/community-mobile-health-services/2027-03-24/
LOCATION:2241 Sierra Way\, San Bernardino\, CA 92405
CATEGORIES:Children and Youth,Community Events,Health and Wellness
ATTACH;FMTTYPE=image/png:https://inlandempirecommunitycollaborative.org/wp-content/uploads/2026/04/SJCH-Community-Mobile-Health-Services-1-scaled.png
GEO:34.1363923;-117.2848999
END:VEVENT
BEGIN:VEVENT
DTSTART;TZID=America/Los_Angeles:20270428T090000
DTEND;TZID=America/Los_Angeles:20270428T130000
DTSTAMP:20260423T090316
CREATED:20260401T224323Z
LAST-MODIFIED:20260401T224323Z
UID:10000352-1808902800-1808917200@inlandempirecommunitycollaborative.org
SUMMARY:Community Mobile Health Services
DESCRIPTION:St. John’s Community Health\, in partnership with the Inland Coalition for Immigrant Justice\, continues to bring vital healthcare services directly to the community through its Mobile Health program in San Bernardino. Located at 2441 Sierra Way\, this ongoing initiative offers accessible\, no-appointment-needed services including primary care\, sports physicals\, vision and hearing screenings\, diabetes and blood pressure checks\, pap smears\, and lab testing. The program also provides same-day enrollment for Medi-Cal and Covered California\, helping connect individuals and families to long-term care. Walk-ins are welcome\, making this a convenient and reliable resource for underserved residents seeking quality\, affordable healthcare close to home.
URL:https://inlandempirecommunitycollaborative.org/event/community-mobile-health-services/2027-04-28/
LOCATION:2241 Sierra Way\, San Bernardino\, CA 92405
CATEGORIES:Children and Youth,Community Events,Health and Wellness
ATTACH;FMTTYPE=image/png:https://inlandempirecommunitycollaborative.org/wp-content/uploads/2026/04/SJCH-Community-Mobile-Health-Services-1-scaled.png
GEO:34.1363923;-117.2848999
END:VEVENT
BEGIN:VEVENT
DTSTART;TZID=America/Los_Angeles:20270526T090000
DTEND;TZID=America/Los_Angeles:20270526T130000
DTSTAMP:20260423T090316
CREATED:20260401T224323Z
LAST-MODIFIED:20260401T224323Z
UID:10000353-1811322000-1811336400@inlandempirecommunitycollaborative.org
SUMMARY:Community Mobile Health Services
DESCRIPTION:St. John’s Community Health\, in partnership with the Inland Coalition for Immigrant Justice\, continues to bring vital healthcare services directly to the community through its Mobile Health program in San Bernardino. Located at 2441 Sierra Way\, this ongoing initiative offers accessible\, no-appointment-needed services including primary care\, sports physicals\, vision and hearing screenings\, diabetes and blood pressure checks\, pap smears\, and lab testing. The program also provides same-day enrollment for Medi-Cal and Covered California\, helping connect individuals and families to long-term care. Walk-ins are welcome\, making this a convenient and reliable resource for underserved residents seeking quality\, affordable healthcare close to home.
URL:https://inlandempirecommunitycollaborative.org/event/community-mobile-health-services/2027-05-26/
LOCATION:2241 Sierra Way\, San Bernardino\, CA 92405
CATEGORIES:Children and Youth,Community Events,Health and Wellness
ATTACH;FMTTYPE=image/png:https://inlandempirecommunitycollaborative.org/wp-content/uploads/2026/04/SJCH-Community-Mobile-Health-Services-1-scaled.png
GEO:34.1363923;-117.2848999
END:VEVENT
BEGIN:VEVENT
DTSTART;TZID=America/Los_Angeles:20270623T090000
DTEND;TZID=America/Los_Angeles:20270623T130000
DTSTAMP:20260423T090316
CREATED:20260401T224323Z
LAST-MODIFIED:20260401T224323Z
UID:10000354-1813741200-1813755600@inlandempirecommunitycollaborative.org
SUMMARY:Community Mobile Health Services
DESCRIPTION:St. John’s Community Health\, in partnership with the Inland Coalition for Immigrant Justice\, continues to bring vital healthcare services directly to the community through its Mobile Health program in San Bernardino. Located at 2441 Sierra Way\, this ongoing initiative offers accessible\, no-appointment-needed services including primary care\, sports physicals\, vision and hearing screenings\, diabetes and blood pressure checks\, pap smears\, and lab testing. The program also provides same-day enrollment for Medi-Cal and Covered California\, helping connect individuals and families to long-term care. Walk-ins are welcome\, making this a convenient and reliable resource for underserved residents seeking quality\, affordable healthcare close to home.
URL:https://inlandempirecommunitycollaborative.org/event/community-mobile-health-services/2027-06-23/
LOCATION:2241 Sierra Way\, San Bernardino\, CA 92405
CATEGORIES:Children and Youth,Community Events,Health and Wellness
ATTACH;FMTTYPE=image/png:https://inlandempirecommunitycollaborative.org/wp-content/uploads/2026/04/SJCH-Community-Mobile-Health-Services-1-scaled.png
GEO:34.1363923;-117.2848999
END:VEVENT
END:VCALENDAR