BEGIN:VCALENDAR
VERSION:2.0
PRODID:-//IECC - ECPv6.15.20//NONSGML v1.0//EN
CALSCALE:GREGORIAN
METHOD:PUBLISH
X-WR-CALNAME:IECC
X-ORIGINAL-URL:https://inlandempirecommunitycollaborative.org
X-WR-CALDESC:Events for IECC
REFRESH-INTERVAL;VALUE=DURATION:PT1H
X-Robots-Tag:noindex
X-PUBLISHED-TTL:PT1H
BEGIN:VTIMEZONE
TZID:America/Los_Angeles
BEGIN:DAYLIGHT
TZOFFSETFROM:-0800
TZOFFSETTO:-0700
TZNAME:PDT
DTSTART:20250309T100000
END:DAYLIGHT
BEGIN:STANDARD
TZOFFSETFROM:-0700
TZOFFSETTO:-0800
TZNAME:PST
DTSTART:20251102T090000
END:STANDARD
BEGIN:DAYLIGHT
TZOFFSETFROM:-0800
TZOFFSETTO:-0700
TZNAME:PDT
DTSTART:20260308T100000
END:DAYLIGHT
BEGIN:STANDARD
TZOFFSETFROM:-0700
TZOFFSETTO:-0800
TZNAME:PST
DTSTART:20261101T090000
END:STANDARD
BEGIN:DAYLIGHT
TZOFFSETFROM:-0800
TZOFFSETTO:-0700
TZNAME:PDT
DTSTART:20270314T100000
END:DAYLIGHT
BEGIN:STANDARD
TZOFFSETFROM:-0700
TZOFFSETTO:-0800
TZNAME:PST
DTSTART:20271107T090000
END:STANDARD
END:VTIMEZONE
BEGIN:VEVENT
DTSTART;VALUE=DATE:20260609
DTEND;VALUE=DATE:20260611
DTSTAMP:20260423T145611
CREATED:20260304T004003Z
LAST-MODIFIED:20260304T004003Z
UID:10000336-1780963200-1781135999@inlandempirecommunitycollaborative.org
SUMMARY:2026 National Innovative Communities Conference (NICC)
DESCRIPTION:This year’s theme\, TRUST\, reflects our commitment to strengthening confidence in community-led solutions\, transparent systems\, and collaborative leadership across the Inland Empire. At a time when trust has been challenged in many spaces\, it invites us to recognize the collective power we hold when it is restored and to build stronger partnerships\, more effective systems\, and healthier\, more resilient communities. \nREGISTER NOW >>>
URL:https://inlandempirecommunitycollaborative.org/event/2026-national-innovative-communities-conference-nicc/
LOCATION:Riverside Convention Center\, 3637 5th Street\, Riverside\, CA\, 92501\, United States
CATEGORIES:Children's Cabinet,Community Events,Diversity, Equity and Inclusion,Economic Development,IECC Event
ATTACH;FMTTYPE=image/png:https://inlandempirecommunitycollaborative.org/wp-content/uploads/2026/03/National-Innovative-Communities-Conference-NICC-1.png
ORGANIZER;CN="Reach Out":MAILTO:info@we-reachout.org
GEO:33.985121;-117.371471
X-APPLE-STRUCTURED-LOCATION;VALUE=URI;X-ADDRESS=Riverside Convention Center 3637 5th Street Riverside CA 92501 United States;X-APPLE-RADIUS=500;X-TITLE=3637 5th Street:geo:-117.371471,33.985121
END:VEVENT
END:VCALENDAR