BEGIN:VCALENDAR
VERSION:2.0
PRODID:-//IECC - ECPv6.15.20//NONSGML v1.0//EN
CALSCALE:GREGORIAN
METHOD:PUBLISH
X-ORIGINAL-URL:https://inlandempirecommunitycollaborative.org
X-WR-CALDESC:Events for IECC
REFRESH-INTERVAL;VALUE=DURATION:PT1H
X-Robots-Tag:noindex
X-PUBLISHED-TTL:PT1H
BEGIN:VTIMEZONE
TZID:America/Los_Angeles
BEGIN:DAYLIGHT
TZOFFSETFROM:-0800
TZOFFSETTO:-0700
TZNAME:PDT
DTSTART:20250309T100000
END:DAYLIGHT
BEGIN:STANDARD
TZOFFSETFROM:-0700
TZOFFSETTO:-0800
TZNAME:PST
DTSTART:20251102T090000
END:STANDARD
BEGIN:DAYLIGHT
TZOFFSETFROM:-0800
TZOFFSETTO:-0700
TZNAME:PDT
DTSTART:20260308T100000
END:DAYLIGHT
BEGIN:STANDARD
TZOFFSETFROM:-0700
TZOFFSETTO:-0800
TZNAME:PST
DTSTART:20261101T090000
END:STANDARD
BEGIN:DAYLIGHT
TZOFFSETFROM:-0800
TZOFFSETTO:-0700
TZNAME:PDT
DTSTART:20270314T100000
END:DAYLIGHT
BEGIN:STANDARD
TZOFFSETFROM:-0700
TZOFFSETTO:-0800
TZNAME:PST
DTSTART:20271107T090000
END:STANDARD
END:VTIMEZONE
BEGIN:VEVENT
DTSTART;TZID=America/Los_Angeles:20260113T130000
DTEND;TZID=America/Los_Angeles:20260113T140000
DTSTAMP:20260425T065947
CREATED:20260106T200722Z
LAST-MODIFIED:20260106T200850Z
UID:10000325-1768309200-1768312800@inlandempirecommunitycollaborative.org
SUMMARY:ECMHS Quarterly Meeting: NAS Care Resource Toolkit
DESCRIPTION:The Children’s Network Early Childhood Mental Health Systems (ECMHS) team invites you a Quarterly Meeting\, featuring a special presentation by Dr. Kiti Freier Randall\, Pediatric Neurodevelopmental Psychologist. \nDr. Kiti will introduce her NAS Care Resource Toolkit\, a comprehensive support guide designed to help providers better serve infants and families affected by Neonatal Abstinence Syndrome (NAS) and Neonatal Neurotoxic Effects (NNE). This presentation will equip San Bernardino County early childhood mental health professionals with practical tools and insights to strengthen care coordination\, family engagement\, and community response. \nNeonatal Abstinence Syndrome (NAS) and Neonatal Neurotoxic Effects (NNE) refer to withdrawal-like symptoms experienced by infants exposed to opioids or other substances in utero. These signs can impact early development and make caregiving challenging; however\, with supportive\, regulation-focused care\, we can ease infants’ discomfort now and help reduce long-term developmental and behavioral impacts. \nWho Should Attend \nAll professionals who work with families\, infants\, toddlers\, and young children (“littles”) are encouraged to attend this meeting and all ECMHS meetings and events. ECMHS gatherings support multidisciplinary partners across early childhood\, mental health\, healthcare\, education\, home visiting\, family resource centers\, and community-based programs. \nDOWNLOAD FLYER HERE >>> \nJOIN HERE ON ZOOM HERE >>>
URL:https://inlandempirecommunitycollaborative.org/event/ecmhs-quarterly-meeting-nas-care-resource-toolkit/
LOCATION:Zoom\, CA\, United States
CATEGORIES:Children and Youth,Children's Cabinet,Community Events,Diversity, Equity and Inclusion,Health and Wellness
ATTACH;FMTTYPE=image/png:https://inlandempirecommunitycollaborative.org/wp-content/uploads/2026/01/CMHS.png
END:VEVENT
END:VCALENDAR