BEGIN:VCALENDAR
VERSION:2.0
PRODID:-//IECC - ECPv6.15.20//NONSGML v1.0//EN
CALSCALE:GREGORIAN
METHOD:PUBLISH
X-ORIGINAL-URL:https://inlandempirecommunitycollaborative.org
X-WR-CALDESC:Events for IECC
REFRESH-INTERVAL;VALUE=DURATION:PT1H
X-Robots-Tag:noindex
X-PUBLISHED-TTL:PT1H
BEGIN:VTIMEZONE
TZID:America/Los_Angeles
BEGIN:DAYLIGHT
TZOFFSETFROM:-0800
TZOFFSETTO:-0700
TZNAME:PDT
DTSTART:20240310T100000
END:DAYLIGHT
BEGIN:STANDARD
TZOFFSETFROM:-0700
TZOFFSETTO:-0800
TZNAME:PST
DTSTART:20241103T090000
END:STANDARD
BEGIN:DAYLIGHT
TZOFFSETFROM:-0800
TZOFFSETTO:-0700
TZNAME:PDT
DTSTART:20250309T100000
END:DAYLIGHT
BEGIN:STANDARD
TZOFFSETFROM:-0700
TZOFFSETTO:-0800
TZNAME:PST
DTSTART:20251102T090000
END:STANDARD
BEGIN:DAYLIGHT
TZOFFSETFROM:-0800
TZOFFSETTO:-0700
TZNAME:PDT
DTSTART:20260308T100000
END:DAYLIGHT
BEGIN:STANDARD
TZOFFSETFROM:-0700
TZOFFSETTO:-0800
TZNAME:PST
DTSTART:20261101T090000
END:STANDARD
BEGIN:DAYLIGHT
TZOFFSETFROM:-0800
TZOFFSETTO:-0700
TZNAME:PDT
DTSTART:20270314T100000
END:DAYLIGHT
BEGIN:STANDARD
TZOFFSETFROM:-0700
TZOFFSETTO:-0800
TZNAME:PST
DTSTART:20271107T090000
END:STANDARD
END:VTIMEZONE
BEGIN:VEVENT
DTSTART;TZID=America/Los_Angeles:20260413T090000
DTEND;TZID=America/Los_Angeles:20260413T160000
DTSTAMP:20260423T163759
CREATED:20260403T193514Z
LAST-MODIFIED:20260403T193514Z
UID:10000358-1776070800-1776096000@inlandempirecommunitycollaborative.org
SUMMARY:Treating Neurodivergent Clients in the Mental Health Setting
DESCRIPTION:This training centers equity and inclusion by supporting mental health providers in strengthening care for neurodivergent clients across clinical settings. Grounded in the social model of disability\, the session examines how systemic barriers and gaps in access impact neurodivergent individuals within the mental health system. Participants will engage in critical conversations around competency\, ethics\, and ableism; build skills to recognize neurodivergent traits in both diagnosed and undiagnosed clients; and develop practical\, adaptable strategies to support diverse therapeutic needs. The training also emphasizes trauma‑informed\, client‑centered approaches for responding to meltdowns and shutdowns\, while connecting participants to resources that support continued learning and more equitable mental health practices.\n\nRegister Here >>>
URL:https://inlandempirecommunitycollaborative.org/event/treating-neurodivergent-clients-in-the-mental-health-setting/
LOCATION:Ontario Airport Hotel  & Conference Center\, 700 N Haven Ave\, Ontario\, CA\, 91764\, United States
CATEGORIES:Advocacy,Children and Youth,Community Events,Diversity, Equity and Inclusion,Health and Wellness,Human Resources,Public Policy
ATTACH;FMTTYPE=image/png:https://inlandempirecommunitycollaborative.org/wp-content/uploads/2026/04/Autism-Society-scaled.png
ORGANIZER;CN="Autism Society Inland Empire":MAILTO:info@autism.org
GEO:34.0704856;-117.5745943
X-APPLE-STRUCTURED-LOCATION;VALUE=URI;X-ADDRESS=Ontario Airport Hotel  & Conference Center 700 N Haven Ave Ontario CA 91764 United States;X-APPLE-RADIUS=500;X-TITLE=700 N Haven Ave:geo:-117.5745943,34.0704856
END:VEVENT
BEGIN:VEVENT
DTSTART;VALUE=DATE:20251103
DTEND;VALUE=DATE:20251106
DTSTAMP:20260423T163759
CREATED:20250703T201808Z
LAST-MODIFIED:20250703T202351Z
UID:10000290-1762128000-1762387199@inlandempirecommunitycollaborative.org
SUMMARY:Reaching At-Promise Students Association (RAPSA) Forum 2025
DESCRIPTION:The RAPSA Forum 2025 revolves around creating networks from schools to effective programs and services that meet the unique needs of At-Promise students. In today’s rapidly evolving world\, our ability to realize this goal as educators and successfully build bridges to brighter futures for At-Promise and Opportunity Youth students hinges on equitable policies\, effective leadership and transformative practices.  To this end\, this RAPSA Forum 2025 aims to explore innovative strategies\, inclusive policies\, and collaborative initiatives and inspire educators\, policymakers\, and community leaders to work collaboratively to create pathways that empower At-Promise students and provides them with skills and abilities that they will need to thrive in school\, in the workforce – and beyond. \nJoin to learn about innovative leadership practices\, effective strategies\, and positive interventions used in educational settings that can help At-Promise students succeed! \nLEARN MORE AND REGISTER HERE >>>
URL:https://inlandempirecommunitycollaborative.org/event/the-reaching-at-promise-students-association-rapsa-forum-2025/
LOCATION:San Diego Mission Bay Resort\, 1775 E Mission Bay Dr\, San Diego\, CA\, 92109\, United States
CATEGORIES:Community Events,Diversity, Equity and Inclusion,Economic Development,Human Resources,Public Policy
ATTACH;FMTTYPE=image/png:https://inlandempirecommunitycollaborative.org/wp-content/uploads/2025/07/2025-RAPSA-Forum.png
GEO:32.7796155;-117.2115304
X-APPLE-STRUCTURED-LOCATION;VALUE=URI;X-ADDRESS=San Diego Mission Bay Resort 1775 E Mission Bay Dr San Diego CA 92109 United States;X-APPLE-RADIUS=500;X-TITLE=1775 E Mission Bay Dr:geo:-117.2115304,32.7796155
END:VEVENT
BEGIN:VEVENT
DTSTART;TZID=America/Los_Angeles:20250820T100000
DTEND;TZID=America/Los_Angeles:20250820T110000
DTSTAMP:20260423T163759
CREATED:20250808T191657Z
LAST-MODIFIED:20250808T191657Z
UID:10000303-1755684000-1755687600@inlandempirecommunitycollaborative.org
SUMMARY:State & Federal Budget Updates: What’s Ahead for Medi-Cal and California’s Health Landscape
DESCRIPTION:The recently passed Federal Reconciliation Bill introduces notable changes to Medicaid structures nationwide\, with significant implications for California’s Medi-Cal system. Similarly\, the recently enacted 2025 State Budget makes other significant changes that will also impact access to Medi-Cal. \nAs California navigates this health care landscape\, join us for a follow-up to our May webinar as we aim to understand the federal and state policy changes that will impact access to healthcare for millions of Californians. \nREGISTER HERE >>>
URL:https://inlandempirecommunitycollaborative.org/event/state-federal-budget-updates-whats-ahead-for-medi-cal-and-californias-health-landscape/
LOCATION:Zoom\, CA\, United States
CATEGORIES:Children's Cabinet,Community Events,Economic Development,Legal,Legislative,Public Policy
ATTACH;FMTTYPE=image/png:https://inlandempirecommunitycollaborative.org/wp-content/uploads/2025/08/Policy-Perspectives.png
END:VEVENT
BEGIN:VEVENT
DTSTART;VALUE=DATE:20250806
DTEND;VALUE=DATE:20250808
DTSTAMP:20260423T163759
CREATED:20250605T011729Z
LAST-MODIFIED:20250605T012459Z
UID:10000288-1754438400-1754611199@inlandempirecommunitycollaborative.org
SUMMARY:IECF's 2025 Policy & Philanthropy Summit: Common Ground for the Common Good
DESCRIPTION:Each year\, the IECF Policy & Philanthropy Summit builds upon the momentum of previous gatherings\, fostering a space to reconvene\, assess progress\, and chart new paths forward. As we approach the 2025 summit\, we continue this tradition of collective reflection and action\, aiming to deepen our impact and strengthen the bonds that drive regional resilience. \nThis year\, community leaders\, policymakers\, nonprofits\, and philanthropists are coming together for two days of real conversations about what it takes to bridge divides and create lasting change in the Inland Empire. Through panel discussions\, hands-on workshops\, and open dialogue\, we’ll explore the challenges—and the opportunities—that shape our region. \nIn a time when differences often seem to overshadow common goals\, this summit is about finding shared purpose amid complexity. It’s a space to listen\, learn\, and work toward solutions that reflect the diverse voices of our communities. \nThe goal is simple: find common ground and use it as a foundation to build stronger\, more connected communities. We’ll move from ideas to action\, tackling real issues with real solutions\, and ensuring progress reaches every corner of our region. \nWe need your voice in the room. The Summit will be held August 6-7\, 2025 at the Riverside Convention Center. \nPURCHASE YOUR TICKETS HERE >>>
URL:https://inlandempirecommunitycollaborative.org/event/iecfs-2025-policy-philanthropy-summit-common-ground-for-the-common-good/
LOCATION:Riverside Convention Center\, 3637 5th Street\, Riverside\, CA\, 92501\, United States
CATEGORIES:Children's Cabinet,Community Events,Diversity, Equity and Inclusion,Economic Development,Legislative,Public Policy
ATTACH;FMTTYPE=image/png:https://inlandempirecommunitycollaborative.org/wp-content/uploads/2025/06/ff3125c3-fee9-14a1-5a15-e7c37a8dc5e5.png
ORGANIZER;CN="IECF | Inland Empire Community Foundation":MAILTO:info@iegives.org
GEO:33.985121;-117.371471
X-APPLE-STRUCTURED-LOCATION;VALUE=URI;X-ADDRESS=Riverside Convention Center 3637 5th Street Riverside CA 92501 United States;X-APPLE-RADIUS=500;X-TITLE=3637 5th Street:geo:-117.371471,33.985121
END:VEVENT
END:VCALENDAR