BEGIN:VCALENDAR
VERSION:2.0
PRODID:-//IECC - ECPv6.15.20//NONSGML v1.0//EN
CALSCALE:GREGORIAN
METHOD:PUBLISH
X-WR-CALNAME:IECC
X-ORIGINAL-URL:https://inlandempirecommunitycollaborative.org
X-WR-CALDESC:Events for IECC
REFRESH-INTERVAL;VALUE=DURATION:PT1H
X-Robots-Tag:noindex
X-PUBLISHED-TTL:PT1H
BEGIN:VTIMEZONE
TZID:America/Los_Angeles
BEGIN:DAYLIGHT
TZOFFSETFROM:-0800
TZOFFSETTO:-0700
TZNAME:PDT
DTSTART:20240310T100000
END:DAYLIGHT
BEGIN:STANDARD
TZOFFSETFROM:-0700
TZOFFSETTO:-0800
TZNAME:PST
DTSTART:20241103T090000
END:STANDARD
BEGIN:DAYLIGHT
TZOFFSETFROM:-0800
TZOFFSETTO:-0700
TZNAME:PDT
DTSTART:20250309T100000
END:DAYLIGHT
BEGIN:STANDARD
TZOFFSETFROM:-0700
TZOFFSETTO:-0800
TZNAME:PST
DTSTART:20251102T090000
END:STANDARD
BEGIN:DAYLIGHT
TZOFFSETFROM:-0800
TZOFFSETTO:-0700
TZNAME:PDT
DTSTART:20260308T100000
END:DAYLIGHT
BEGIN:STANDARD
TZOFFSETFROM:-0700
TZOFFSETTO:-0800
TZNAME:PST
DTSTART:20261101T090000
END:STANDARD
BEGIN:DAYLIGHT
TZOFFSETFROM:-0800
TZOFFSETTO:-0700
TZNAME:PDT
DTSTART:20270314T100000
END:DAYLIGHT
BEGIN:STANDARD
TZOFFSETFROM:-0700
TZOFFSETTO:-0800
TZNAME:PST
DTSTART:20271107T090000
END:STANDARD
END:VTIMEZONE
BEGIN:VEVENT
DTSTART;TZID=America/Los_Angeles:20260312T110000
DTEND;TZID=America/Los_Angeles:20260312T120000
DTSTAMP:20260423T143343
CREATED:20260203T011201Z
LAST-MODIFIED:20260203T011201Z
UID:10000331-1773313200-1773316800@inlandempirecommunitycollaborative.org
SUMMARY:Nonprofit Insurance: Worker’s Compensation
DESCRIPTION:Open to All\n\nWorkers’ compensation insurance is a critical requirement for nonprofits with employees\, yet it is often misunderstood or overlooked until a claim arises. From employee injuries to classification issues\, gaps in workers’ compensation coverage can expose nonprofits to financial risk\, regulatory penalties\, and operational disruptions. \nThis free informational webinar from CalNonprofits Insurance Services (CNIS) will provide a clear understanding of workers’ compensation insurance and how it applies specifically to nonprofit organizations. Drawing on deep sector experience\, Colleen Lazanich\, CEO of CNIS and Amy Neuman\, Senior VP Casualty and Property of CNIS\, will explain key coverage requirements\, common pitfalls\, and best practices to help nonprofits protect their staff and their mission. \nIn this webinar\, participants will learn: \n How to evaluate your current coverage and avoid costly gaps\n When workers’ compensation insurance is required for nonprofits\n How coverage applies to employees\, part time staff\, and volunteers\n Common workers’ compensation risks faced by nonprofit organizations \nREGISTER HERE >>>
URL:https://inlandempirecommunitycollaborative.org/event/nonprofit-insurance-workers-compensation/
LOCATION:Zoom\, CA\, United States
CATEGORIES:Community Events,Economic Development,Human Resources,Legal
ATTACH;FMTTYPE=image/png:https://inlandempirecommunitycollaborative.org/wp-content/uploads/2026/02/Nonprofit-Insurance-Workers-Compensation.png
END:VEVENT
BEGIN:VEVENT
DTSTART;TZID=America/Los_Angeles:20260128T110000
DTEND;TZID=America/Los_Angeles:20260128T120000
DTSTAMP:20260423T143343
CREATED:20251210T211835Z
LAST-MODIFIED:20251210T211835Z
UID:10000320-1769598000-1769601600@inlandempirecommunitycollaborative.org
SUMMARY:Trump 2.0 Resilience Series: New Year\, New Fights
DESCRIPTION:With Ian Bassin\, Founder and Executive Director of Protect Democracy \nJoin CalNonprofits CEO Geoff Green and Protect Democracy’s Executive Director Ian Bassin for a virtual conversation on how nonprofits can stay strong and mission-focused amid growing threats to democracy here in the United States. Freedom in America is being tested\, not only by external pressures but by democratic institutions faltering from within. \nThis 60-minute virtual townhall will help nonprofit leaders start the year with clarity and confidence\, exploring how these challenges affect the nonprofit sector and what organizations can do to protect their missions and communities. Participants will also learn about Protect Democracy’s tools and resources to help defend democratic values and ensure nonprofits can continue to lead with integrity and impact in 2026 and beyond. \nREGISTER HERE >>>
URL:https://inlandempirecommunitycollaborative.org/event/trump-2-0-resilience-series-new-year-new-fights/
LOCATION:Zoom\, CA\, United States
CATEGORIES:Advocacy,Community Events,Diversity, Equity and Inclusion,Economic Development
ATTACH;FMTTYPE=image/png:https://inlandempirecommunitycollaborative.org/wp-content/uploads/2025/12/Riverside-East-Rotary-Club.png
END:VEVENT
BEGIN:VEVENT
DTSTART;TZID=America/Los_Angeles:20251203T110000
DTEND;TZID=America/Los_Angeles:20251203T120000
DTSTAMP:20260423T143343
CREATED:20251203T002658Z
LAST-MODIFIED:20251203T002658Z
UID:10000319-1764759600-1764763200@inlandempirecommunitycollaborative.org
SUMMARY:Nonprofit Insurance 101
DESCRIPTION:Insurance can feel like one of the most complicated and overwhelming parts of running a nonprofit\, but it doesn’t have to be! Join for an introductory webinar presented by CalNonprofits Insurance Services. \nWe’ll walk through the core types of coverage nonprofits should understand including the basics of liability\, property\, D&O\, workers’ comp\, and more. Bring your questions\, and leave with real answers and confidence in your coverage decisions. \nREGISTER HERE >>>
URL:https://inlandempirecommunitycollaborative.org/event/nonprofit-insurance-101/
LOCATION:Zoom\, CA\, United States
CATEGORIES:Advocacy,Community Events,Technical Assistance
ATTACH;FMTTYPE=image/png:https://inlandempirecommunitycollaborative.org/wp-content/uploads/2025/12/e756d085-0aa4-2bd3-0662-2a90c5a156e2-scaled.png
END:VEVENT
BEGIN:VEVENT
DTSTART;VALUE=DATE:20251105
DTEND;VALUE=DATE:20251106
DTSTAMP:20260423T143343
CREATED:20250327T220028Z
LAST-MODIFIED:20250808T195930Z
UID:10000257-1762300800-1762387199@inlandempirecommunitycollaborative.org
SUMMARY:2025 CalNonprofits Policy Conference
DESCRIPTION:Nonprofits have faced a year of unprecedented challenges – funding cuts\, legal threats\, and attacks on our very communities. Through it all\, we’ve stood strong\, defended our values\, and pushed for solutions that work for those we serve. \nTogether we have remained United. Fearless. Powerful. Please join us this November for the 2025 CalNonprofits Policy Conference in Los Angeles. This gathering is where our sector comes together to do what we do best: learn\, strategize\, and build power. The day will be packed with thought-provoking panels\, breakout sessions\, and networking designed to strengthen our advocacy\, grow our resilience\, and spark action. You’ll hear from national and California nonprofit leaders\, including: \n\nDiane Yentel\, CEO\, National Council of Nonprofits\nAkilah Watkins\, CEO\, Independent Sector Assemblymember\nGregg Hart Senator Monique Limón\, CA State Senate President Pro Tempore\n\nEarly Bird Registration is open now through August 23. To make this event accessible for all\, we’re also offering a pay-what-you-can option because every voice matters in shaping the future of California’s nonprofit sector. \nREGISTER HERE >>>
URL:https://inlandempirecommunitycollaborative.org/event/save-the-date-2025-calnonprofits-policy-conference/
LOCATION:California Endowment\, 1000 N Alameda St\, Los Angeles\, CA\, 90012\, United States
CATEGORIES:Advocacy,Civic Engagement,Community Events,Legal,Legislative,Public Policy
ATTACH;FMTTYPE=image/png:https://inlandempirecommunitycollaborative.org/wp-content/uploads/2025/03/2025-CalNonprofits-Policy-Conference.png
GEO:34.0594609;-118.2367397
X-APPLE-STRUCTURED-LOCATION;VALUE=URI;X-ADDRESS=California Endowment 1000 N Alameda St Los Angeles CA 90012 United States;X-APPLE-RADIUS=500;X-TITLE=1000 N Alameda St:geo:-118.2367397,34.0594609
END:VEVENT
BEGIN:VEVENT
DTSTART;TZID=America/Los_Angeles:20251016T110000
DTEND;TZID=America/Los_Angeles:20251016T120000
DTSTAMP:20260423T143343
CREATED:20251007T232130Z
LAST-MODIFIED:20251007T232130Z
UID:10000312-1760612400-1760616000@inlandempirecommunitycollaborative.org
SUMMARY:Member Networking: Advocacy Organizations (Under $1M Budget)
DESCRIPTION:Connect with fellow advocacy organizations (budgets under $1M) in this 60-minute session. From seasoned advocates to those new to policy work\, you’ll swap ideas and learn from others who understand your organizational scale and challenges \nThis session is for organizations with operating budget less than $1M. Looking for other networking? Fill out our suggestion form. \nBreakout Rooms: \n\nCEO/Executive Director\nPolicy Staff\nCommunications/Marketing\nEvents\nGeneral Networking\n\nNotes: \n\nLimited to 80 registrants. Please let us know if you cannot make it.\nThe meeting won’t be recorded.\n\nREGISTER HERE >>>
URL:https://inlandempirecommunitycollaborative.org/event/member-networking-advocacy-organizations-under-1m-budget/
LOCATION:Zoom\, CA\, United States
CATEGORIES:Advocacy,Community Events
ATTACH;FMTTYPE=image/png:https://inlandempirecommunitycollaborative.org/wp-content/uploads/2025/10/3981467c-6342-4565-9749-92ac5b1b3a43.png
END:VEVENT
END:VCALENDAR